BEGIN:VCALENDAR
VERSION:2.0
PRODID:-//eventon.com NONSGML v1.0//EN
CALSCALE:GREGORIAN
METHOD:PUBLISH
BEGIN:VEVENT
UID:69e8a1cb85802
DTSTAMP:20260422T102411Z
DTSTART:20240615
DTEND:20240616
LOCATION:
SUMMARY:Torneo Infantil de Verano Fútbol 7 "Ciudad de Consuegra 2024"
DESCRIPTION:Club Atlético Consuegra junto al Ayuntamiento organizan torneo
  veraniego de fútbol 7\,  categoría infantil. CUÁNDO: A partir del 15 de
  junio\,  todos los sábados. Incluye fase de grupos\,  cruces\,  semifina
 les y final. DÓNDE: Campo de Deportes «El Amarguillo» de Consuegra. PREC
 IO: 10€ por jugador. EDADES 13\,  14 y 15 años. FORMULARIO[..]\nhttps://
 aytoconsuegra.es/agenda-ciudadana/inicio-torneo-infantil-de-verano-futbol-7
 -ciudad-de-consuegra-2024/
URL:https://aytoconsuegra.es/agenda-ciudadana/inicio-torneo-infantil-de-verano-futbol-7-ciudad-de-consuegra-2024/
END:VEVENT
END:VCALENDAR