BEGIN:VCALENDAR
VERSION:2.0
PRODID:-//eventon.com NONSGML v1.0//EN
CALSCALE:GREGORIAN
METHOD:PUBLISH
BEGIN:VEVENT
UID:69e76ce6e3224
DTSTAMP:20260421T122614Z
DTSTART:20240913
DTEND:20240914
LOCATION:
SUMMARY:Feria y Fiestas 2024 (Fiestas Patronales)
DESCRIPTION:Del 20 al 25 de septiembre tanto vecinos como visitantes podrá
  disfrutar de una variada programación llena de actividades deportivas\,  
 culturales y litúrgicos para todas las edades\,  con motivo de las Fiestas
  Patronales en honor al Stmo. Cristo de la Vera Cruz.  Revista Feria y Fie
 stas 2024 Feria 2024. Saludas [..]\nhttps://aytoconsuegra.es/agenda-ciudad
 ana/feria-y-fiestas-2024-fiestas-patronales/
URL:https://aytoconsuegra.es/agenda-ciudadana/feria-y-fiestas-2024-fiestas-patronales/
END:VEVENT
END:VCALENDAR