BEGIN:VCALENDAR
VERSION:2.0
PRODID:-//eventon.com NONSGML v1.0//EN
CALSCALE:GREGORIAN
METHOD:PUBLISH
BEGIN:VEVENT
UID:69e5fbaee7910
DTSTAMP:20260420T101054Z
DTSTART:20240614
DTEND:20240615
LOCATION:
SUMMARY:I Festival Coral "Ruta del Quijote" 2024
DESCRIPTION:El próximo fin de semana (14 y 15 de junio) tendrá lugar la p
 rimera edición del Festival Coral “Ruta de Don Quijote” en Consuegra. 
 Se trata de un evento muy especial\,  organizado por Sonoro Música y el Ay
 untamiento de Consuegra\,  que trata de favorecer el intercambio cultural a
  través de[..]\nhttps://aytoconsuegra.es/agenda-ciudadana/festival-coral-i
 nternacional-ruta-del-quijote-2024/
URL:https://aytoconsuegra.es/agenda-ciudadana/festival-coral-internacional-ruta-del-quijote-2024/
END:VEVENT
END:VCALENDAR