BEGIN:VCALENDAR
VERSION:2.0
PRODID:-//eventon.com NONSGML v1.0//EN
CALSCALE:GREGORIAN
METHOD:PUBLISH
BEGIN:VEVENT
UID:69e5fc3a44e63
DTSTAMP:20260420T101314Z
DTSTART:20240617
DTEND:20240618
LOCATION:
SUMMARY:Escuela Municipal de Música y Danza. Quincena Musical Junio 2024
DESCRIPTION:Estimados amigos y amigas\,  la Escuela Municipal de Música y 
 Danza de Consuegra afronta la recta final del curso 2023/2024 y\,  para des
 pedirnos\,  os dejamos el calendario de la Quincena Musical. ¡Seguimos hac
 iendo música!.  QUINCENA MUSICAL del 17 al 28 de junio  Programación Qu
 incena Musical 2024.  QUINCENA MUSICAL ESCUELA MUNICIPAL[..]\nhttps://ayto
 consuegra.es/agenda-ciudadana/escuela-municipal-de-musica-y-danza-quincena-
 musical-junio-2024/
URL:https://aytoconsuegra.es/agenda-ciudadana/escuela-municipal-de-musica-y-danza-quincena-musical-junio-2024/
END:VEVENT
END:VCALENDAR