BEGIN:VCALENDAR
VERSION:2.0
PRODID:-//eventon.com NONSGML v1.0//EN
CALSCALE:GREGORIAN
METHOD:PUBLISH
BEGIN:VEVENT
UID:69e885ded2fae
DTSTAMP:20260422T082502Z
DTSTART:20240823T193000Z
DTEND:20240823T120000Z
LOCATION:
SUMMARY:AQUALAND próximo viernes 23 de agosto
DESCRIPTION:La Concejalía de Juventud del Ayuntamiento de Consuegra organi
 za la siguiente actividad dirigida a los más pequeños.  AQUALAND. Hincha
 bles acuáticos\,  tren turístico\,  fiesta de la espuma. FECHA: Viernes 2
 3 de agosto de 2023. HORARIO: Desde las 19:30 horas LUGAR: Complejo Deporti
 vo de Consuegra (entrada bar piscina) PLAZAS LIMITADAS (200) INSCRIPCIONES[
 ..]\nhttps://aytoconsuegra.es/agenda-ciudadana/aqualand-proximo-viernes-23-
 de-agosto/
URL:https://aytoconsuegra.es/agenda-ciudadana/aqualand-proximo-viernes-23-de-agosto/
END:VEVENT
END:VCALENDAR