BEGIN:VCALENDAR
VERSION:2.0
PRODID:-//eventon.com NONSGML v1.0//EN
CALSCALE:GREGORIAN
METHOD:PUBLISH
BEGIN:VEVENT
UID:69e7530548808
DTSTAMP:20260421T103549Z
DTSTART:20240913T220000Z
DTEND:20240913T225900Z
LOCATION:
SUMMARY:Concierto del Cristo a cargo de la Banda Sinfónica de Consuegra
DESCRIPTION:La Banda Sinfónica de Consuegra\,  continua con sus actos de s
 eptiembre\,  y bajo la dirección de Vicente M. Palop Valero\,   el próxi
 mo viernes 13 de septiembre\,  tendrá lugar concierto en honor al Cristo d
 e la Vera Cruz de Consuegra.  CONCIERTO DEL CRISTO. Banda Sinfónica de Co
 nsuegra Viernes 13 de septiembre[..]\nhttps://aytoconsuegra.es/agenda-ciuda
 dana/concierto-del-cristo-a-cargo-de-la-banda-sinfonica-de-consuegra/
URL:https://aytoconsuegra.es/agenda-ciudadana/concierto-del-cristo-a-cargo-de-la-banda-sinfonica-de-consuegra/
END:VEVENT
END:VCALENDAR