BEGIN:VCALENDAR
VERSION:2.0
PRODID:-//eventon.com NONSGML v1.0//EN
CALSCALE:GREGORIAN
METHOD:PUBLISH
BEGIN:VEVENT
UID:69e7823771e15
DTSTAMP:20260421T135711Z
DTSTART:20240928T183000Z
DTEND:20240928T225900Z
LOCATION:
SUMMARY:Retransmisión en directo de la Ópera ADRIANA LECOUVREUR
DESCRIPTION:TEATRO DON QUIJOTE DE CONSUEGRA El TEATRO REAL presenta RETRANS
 MISIÓN EN DIRECTO DE LA ÓPERA ADRIANA LECOUVREUR SÁBADO 28 DE SEPTIEMBRE
  DE 2024 19:30 HORAS ADRIANA LECOUVREUR desde el TEATRO REAL  📅 EL día
  28 de SEPTIEMBRE a las 19:30 h. Entradas con Invitación Duración: 3 hora
 s. aprox. RETRANSMISIÓN DESDE[..]\nhttps://aytoconsuegra.es/agenda-ciudada
 na/retransmision-en-directo-de-la-opera-adriana-lecouvreur/
URL:https://aytoconsuegra.es/agenda-ciudadana/retransmision-en-directo-de-la-opera-adriana-lecouvreur/
END:VEVENT
END:VCALENDAR