BEGIN:VCALENDAR
VERSION:2.0
PRODID:-//eventon.com NONSGML v1.0//EN
CALSCALE:GREGORIAN
METHOD:PUBLISH
BEGIN:VEVENT
UID:69e7d0f9d5c5c
DTSTAMP:20260421T193313Z
DTSTART:20240929T190000Z
DTEND:20240929T235900Z
LOCATION:
SUMMARY:LA CHICACHARCOS Y THE KATIUSKAS BAND presenta UN DÍA FUI UNA SANDÍA
DESCRIPTION:TEATRO DON QUIJOTE DE CONSUEGRA LA CHICACHARCOS Y THE KATIUSKAS
  BAND presenta UN DÍA FUI UNA SANDÍA DOMINGO 29 DE SEPTIEMBRE DE 2024 19:
 00 HORAS UN DÍA FUI UNA SANDÍA  de  La chicacharcos y the katiuskas ban
 d 📅 EL día 29 de SEPTIEMBRE a las 19:00 h. Entradas: 6€ Duración:[..
 ]\nhttps://aytoconsuegra.es/agenda-ciudadana/la-chicacharcos-y-the-katiuska
 s-band-presenta-un-dia-fui-una-sandia/
URL:https://aytoconsuegra.es/agenda-ciudadana/la-chicacharcos-y-the-katiuskas-band-presenta-un-dia-fui-una-sandia/
END:VEVENT
END:VCALENDAR