BEGIN:VCALENDAR
VERSION:2.0
PRODID:-//eventon.com NONSGML v1.0//EN
CALSCALE:GREGORIAN
METHOD:PUBLISH
BEGIN:VEVENT
UID:69e7e87612b54
DTSTAMP:20260421T211326Z
DTSTART:20241005T200000Z
DTEND:20241005T235900Z
LOCATION:
SUMMARY:PERIGALLO TEATRO presenta POR VOLUNTAD PROPIA
DESCRIPTION:TEATRO DON QUIJOTE DE CONSUEGRA PERIGALLO TEATRO presenta POR V
 OLUNTAD PROPIA SÁBADO 5 DE OCTUBREDE 2024 20:00 HORAS POR VOLUNTAD PROPIA 
  de  Perigallo Teatro 📅 EL día 5 de OCTUBRE a las 20:00 h. Entradas: 
 12 € Duración: 80 min. aprox. PERIGALLO TEATRO presentan POR VOLUNTAD P
 ROPIA En una especie de[..]\nhttps://aytoconsuegra.es/agenda-ciudadana/peri
 gallo-teatro-presenta-por-voluntad-propia/
URL:https://aytoconsuegra.es/agenda-ciudadana/perigallo-teatro-presenta-por-voluntad-propia/
END:VEVENT
END:VCALENDAR