BEGIN:VCALENDAR
VERSION:2.0
PRODID:-//eventon.com NONSGML v1.0//EN
CALSCALE:GREGORIAN
METHOD:PUBLISH
BEGIN:VEVENT
UID:69e7fdfd1af0b
DTSTAMP:20260421T224517Z
DTSTART:20241004T230000Z
DTEND:20241005T225900Z
LOCATION:
SUMMARY:Fútbol Juvenil Preferente. Jornada 5.
DESCRIPTION:FÚTBOL JUVENIL PREFERENTE JORNADA @cfalovera Domingo 06 de oct
 ubre &#8211; 12:00H Municipal “El amarguillo” 3€ &#8211; Abono de tem
 porada 30€ Habrá rifa Ven a vivirlo con nosotros! #vamosverdes https://w
 ww.instagram.com/juvenilconsuegra/ Síguenos en nuestras redes sociales: &n
 bsp;\nhttps://aytoconsuegra.es/agenda-ciudadana/futbol-juvenil-preferente-j
 ornada-5/
URL:https://aytoconsuegra.es/agenda-ciudadana/futbol-juvenil-preferente-jornada-5/
END:VEVENT
END:VCALENDAR