BEGIN:VCALENDAR
VERSION:2.0
PRODID:-//eventon.com NONSGML v1.0//EN
CALSCALE:GREGORIAN
METHOD:PUBLISH
BEGIN:VEVENT
UID:69e8155ce47e2
DTSTAMP:20260422T002500Z
DTSTART:20241006T043000Z
DTEND:20241006T225900Z
LOCATION:
SUMMARY:Fútbol. Atlético Consuegra. Jornada 4
DESCRIPTION:CLUB ATLÉTICO CONSUEGRA. PRIMERA DIVISIÓN AUTONÓMICA. GRUPO 
 III JORNADA 4 Este domingo no os lo podéis perder\,  ¡jugamos en casa y p
 or eso os necesitamos Recibiremos al CD CALERA equipo que viene de ganar po
 r goleada\,  y que no nos pondrá fáciles las cosas. El Amarguillo Domingo
  6 Octubre 17:30H[..]\nhttps://aytoconsuegra.es/agenda-ciudadana/futbol-atl
 etico-consuegra-jornada-4/
URL:https://aytoconsuegra.es/agenda-ciudadana/futbol-atletico-consuegra-jornada-4/
END:VEVENT
END:VCALENDAR