BEGIN:VCALENDAR
VERSION:2.0
PRODID:-//eventon.com NONSGML v1.0//EN
CALSCALE:GREGORIAN
METHOD:PUBLISH
BEGIN:VEVENT
UID:69e82dc9ea924
DTSTAMP:20260422T020913Z
DTSTART:20241026
DTEND:20241027
LOCATION:
SUMMARY:62 Festival Nacional de Folclore "Rosa del Azafrán" 2024
DESCRIPTION:La Asociación de Coros y Danzas de Consuegra «Rosa del Azafr
 n» presenta el cartel de la 62 edición del Festival Nacional de Folklore
  “Rosa del Azafrán” 2024\,  que tendrá lugar los días 26 y 27 de oct
 ubre.  OTOÑO\,  OCTUBRE\,  TRADICIÓN\,  IDENTIDAD\,  62 FNF ROSA DEL AZA
 FRÁN Os presentamos una nueva[..]\nhttps://aytoconsuegra.es/agenda-ciudada
 na/62-festival-nacional-de-folclore-rosa-del-azafran-2024/
URL:https://aytoconsuegra.es/agenda-ciudadana/62-festival-nacional-de-folclore-rosa-del-azafran-2024/
END:VEVENT
END:VCALENDAR