BEGIN:VCALENDAR
VERSION:2.0
PRODID:-//eventon.com NONSGML v1.0//EN
CALSCALE:GREGORIAN
METHOD:PUBLISH
BEGIN:VEVENT
UID:69e8456595d2f
DTSTAMP:20260422T034957Z
DTSTART:20241019T233000Z
DTEND:20241020T225900Z
LOCATION:
SUMMARY:XI Encuentro de Rondas Rosa del Azafrán 2024
DESCRIPTION:Para ir abriendo boca y como pistoletazo de salida a la Fiesta 
 de la Rosa del Azafrán 2024\,  os presentamos un nuevo encuentro de rondas
 \,  con la participación de las cuadrillas Grupo Tradicional Hoyo Guarde y
  Los Saltagavias. ¡VIVA LA RONDA QUE RONDA! ¡Y VIVAN LOS RONDAORES! ¡VIV
 AN LAS NIÑAS[..]\nhttps://aytoconsuegra.es/agenda-ciudadana/xi-encuentro-d
 e-rondas-rosa-del-azafran-2024/
URL:https://aytoconsuegra.es/agenda-ciudadana/xi-encuentro-de-rondas-rosa-del-azafran-2024/
END:VEVENT
END:VCALENDAR