BEGIN:VCALENDAR
VERSION:2.0
PRODID:-//eventon.com NONSGML v1.0//EN
CALSCALE:GREGORIAN
METHOD:PUBLISH
BEGIN:VEVENT
UID:69e873baa0de9
DTSTAMP:20260422T070738Z
DTSTART:20241018
DTEND:20241019
LOCATION:
SUMMARY:Torneo Mixto Pádel Rosa del Azafrán 2024
DESCRIPTION:Consuegra Pádel Club con la colaboración de la Concejalía de
  Deportes del Ayuntamiento de Consuegra organiza TORNEO DE PADEL MIXTO\,  c
 on motivo de la 62 Fiesta Rosa del Azafrán 2024. Fecha: 18\,  19 y 20 de o
 ctubre. Inscríbete antes del 15 de octubre Socios 25 € por pareja / No[.
 .]\nhttps://aytoconsuegra.es/agenda-ciudadana/torneo-mixto-padel-rosa-del-a
 zafran-2024/
URL:https://aytoconsuegra.es/agenda-ciudadana/torneo-mixto-padel-rosa-del-azafran-2024/
END:VEVENT
END:VCALENDAR