BEGIN:VCALENDAR
VERSION:2.0
PRODID:-//eventon.com NONSGML v1.0//EN
CALSCALE:GREGORIAN
METHOD:PUBLISH
BEGIN:VEVENT
UID:69e9eff256283
DTSTAMP:20260423T100954Z
DTSTART:20241018
DTEND:20241019
LOCATION:
SUMMARY:Torneo Infantil Pádel Rosa del Azafrán 2024
DESCRIPTION:Consuegra Padel Club con la colaboración de la Concejalía de 
 Deportes del Ayuntamiento de Consuegra organiza TORNEO INFANTIL\,  con moti
 vo de la 62 Fiesta Rosa del Azafrán 2024. FECHA: 18\,  19 y 20 de octubre.
  6€ por pareja (mínimo 8 parejas) Inscripciones abiertas hasta el 15 de 
 octubre TROFEOS PARA[..]\nhttps://aytoconsuegra.es/agenda-ciudadana/torneo-
 infantil-padel-rosa-del-azafran-2024/
URL:https://aytoconsuegra.es/agenda-ciudadana/torneo-infantil-padel-rosa-del-azafran-2024/
END:VEVENT
END:VCALENDAR