BEGIN:VCALENDAR
VERSION:2.0
PRODID:-//eventon.com NONSGML v1.0//EN
CALSCALE:GREGORIAN
METHOD:PUBLISH
BEGIN:VEVENT
UID:69e731b48d907
DTSTAMP:20260421T081340Z
DTSTART:20241026T110000Z
DTEND:20241026T235900Z
LOCATION:
SUMMARY:XXV Concurso Gastronómico Rosa del Azafrán 2024
DESCRIPTION:La Concejalía de Turismo\,  Patrimonio\,  Cultura y Tradicione
 s Populares del Ayuntamiento de Consuegra organiza XXV CONCURSO GASTRONÓMI
 CO\,   con motivo de la la 62 edición de la Fiesta de la Rosa del Azafrá
 n 2024\,  declarada fiesta de interés turístico regional. XXV CONCURSO DE
  GASTRONOMIA ROSA DEL AZAFRAN 2024 Sábado 26 de[..]\nhttps://aytoconsuegra
 .es/agenda-ciudadana/xxv-concurso-gastronomico-rosa-del-azafran-2024/
URL:https://aytoconsuegra.es/agenda-ciudadana/xxv-concurso-gastronomico-rosa-del-azafran-2024/
END:VEVENT
END:VCALENDAR