BEGIN:VCALENDAR
VERSION:2.0
PRODID:-//eventon.com NONSGML v1.0//EN
CALSCALE:GREGORIAN
METHOD:PUBLISH
BEGIN:VEVENT
UID:69e5e7630ba17
DTSTAMP:20260420T084419Z
DTSTART:20250718
DTEND:20250719
LOCATION:
SUMMARY:Torneo Nocturno de Pádel organizado por AM Banda Vera Cruz
DESCRIPTION:La Banda de Cornetas y tambores de la Cofradia de la Esclavitud
  del Stmo. Cristo de la Vera Cruz (AM banda Vera cruz) te invita a vivir el
  pádel de una forma diferente\,  con su Torneo Nocturno. Dos noches llenas
  de ritmo\,  competición y muy buen ambiente. TORNEO NOCTURNO DE[..]\nhttp
 s://aytoconsuegra.es/agenda-ciudadana/torneo-nocturno-de-padel-organizado-p
 or-am-banda-vera-cruz/
URL:https://aytoconsuegra.es/agenda-ciudadana/torneo-nocturno-de-padel-organizado-por-am-banda-vera-cruz/
END:VEVENT
END:VCALENDAR